BEGIN:VCALENDAR
PRODID:-//kirchenweb.ch gmbh//veranstaltungsausgabe v2.0//DE
VERSION:2.0
METHOD:PUBLISH
BEGIN:VEVENT
DTSTART:20260528T170000Z
DTEND:20260528T193000Z
LOCATION:St. Agatha Pfarreizentrum\, \,
TRANSP:OPAQUE
SEQUENCE:0
UID:57951-veranstaltung@kath-dietikon.ch
DTSTAMP:20260408T051318Z
DESCRIPTION:Kontakt: Rita Mock\n\nWeitere Infos:
  https://www.kath-dietikon.ch/veranstaltung/57951
SUMMARY:Kinoabend
PRIORITY:5
X-MICROSOFT-CDO-IMPORTANCE:1
CLASS:PUBLIC
END:VEVENT
END:VCALENDAR
