BEGIN:VCALENDAR
PRODID:-//kirchenweb.ch gmbh//veranstaltungsausgabe v2.0//DE
VERSION:2.0
METHOD:PUBLISH
BEGIN:VEVENT
DTSTART:20270113T180000Z
DTEND:20270113T190000Z
LOCATION:St. Agatha Pfarreizentrum\, Bahnhofplatz 3\, 8953 Dietikon
TRANSP:OPAQUE
SEQUENCE:0
UID:57936-veranstaltung@kath-dietikon.ch
DTSTAMP:20260407T085044Z
DESCRIPTION:Kontakt: madeleine.braem@kath-dietikon.ch\n\nWeitere Infos:
  https://www.kath-dietikon.ch/veranstaltung/57936
SUMMARY:The Chosen - Jüngerschaft
PRIORITY:5
X-MICROSOFT-CDO-IMPORTANCE:1
CLASS:PUBLIC
END:VEVENT
END:VCALENDAR
