BEGIN:VCALENDAR
PRODID:-//kirchenweb.ch gmbh//veranstaltungsausgabe v2.0//DE
VERSION:2.0
METHOD:PUBLISH
BEGIN:VEVENT
DTSTART:20260508T070000Z
DTEND:20260508T080000Z
LOCATION:ref. Kirchgemeindehaus\, Poststrasse 50\, 8953 Dietikkon
TRANSP:OPAQUE
SEQUENCE:0
UID:56425-veranstaltung@kath-dietikon.ch
DTSTAMP:20251223T133443Z
DESCRIPTION:Einst erfolgreicher Banker\, fand Thomas Melliger nach einem
  prägenden Lebensereignis zu einem bewussteren\, gesünderen und
  sinnerfüllten Leben. Heute begleitet er Menschen dabei\, ihr
  Unterbewusstsein gezielt zu nutzen\, um innere Stärke und Ruhe zu
  finden. In seinem Vortrag zeigt er praxisnah\, wie Mental- und
  Hypnosecoaching wirken - mit kleinen Erlebnisübungen zum Ausprobieren.
 \nReferent: Thomas Melliger\nAuch Männer sich herzlich willkommen\,
  freiwilliger Unkostenbeitrag\n\nKontakt: madeleine.braem@kath-dietikon.ch
 \n\nWeitere Infos: https://www.kath-dietikon.ch/veranstaltung/56425
SUMMARY:ökum. Frauentreff - Die Kraft des Unterbewusstseins
PRIORITY:5
X-MICROSOFT-CDO-IMPORTANCE:1
CLASS:PUBLIC
END:VEVENT
END:VCALENDAR
