BEGIN:VCALENDAR
PRODID:-//kirchenweb.ch gmbh//veranstaltungsausgabe v2.0//DE
VERSION:2.0
METHOD:PUBLISH
BEGIN:VEVENT
DTSTART:20260612T170000Z
DTEND:20260612T210000Z
LOCATION:St. Agatha Pfarreizentrum\, Bahnhofplatz 3\, 8953 Dietikon
TRANSP:OPAQUE
SEQUENCE:0
UID:55949-veranstaltung@kath-dietikon.ch
DTSTAMP:20251016T150027Z
DESCRIPTION:Kontakt: Theresa Strobel\n\nWeitere Infos:
  https://www.kath-dietikon.ch/veranstaltung/55949
SUMMARY:Tanzabend
PRIORITY:5
X-MICROSOFT-CDO-IMPORTANCE:1
CLASS:PUBLIC
END:VEVENT
END:VCALENDAR
