BEGIN:VCALENDAR
PRODID:-//kirchenweb.ch gmbh//veranstaltungsausgabe v2.0//DE
VERSION:2.0
METHOD:PUBLISH
BEGIN:VEVENT
DTSTART:20260509T083000Z
DTEND:20260509T100000Z
LOCATION:St. Agatha Pfarreizentrum\, Bahnhofplatz 3\, 8953 Dietikon
TRANSP:OPAQUE
SEQUENCE:0
UID:55942-veranstaltung@kath-dietikon.ch
DTSTAMP:20260317T143857Z
DESCRIPTION:Kontakt: Theresa Strobel\n\nWeitere Infos:
  https://www.kath-dietikon.ch/veranstaltung/55942
SUMMARY:MYC-Atelier: Christen im nahen Osten
PRIORITY:5
X-MICROSOFT-CDO-IMPORTANCE:1
CLASS:PUBLIC
END:VEVENT
END:VCALENDAR
