BEGIN:VCALENDAR
PRODID:-//kirchenweb.ch gmbh//veranstaltungsausgabe v2.0//DE
VERSION:2.0
METHOD:PUBLISH
BEGIN:VEVENT
DTSTART:20261214T130000Z
DTEND:20261214T140000Z
LOCATION:St. Josef Pfarreizentrum\, Urdorferstrasse 44\, 8953 Dietikon
TRANSP:OPAQUE
SEQUENCE:0
UID:55920-veranstaltung@kath-dietikon.ch
DTSTAMP:20251014T103953Z
DESCRIPTION:Kontakt: caroline.bolfing@kath-dietikon.ch\n\nWeitere Infos:
  https://www.kath-dietikon.ch/veranstaltung/55920
SUMMARY:Regenbogen-Strickerinnen Treff
PRIORITY:5
X-MICROSOFT-CDO-IMPORTANCE:1
CLASS:PUBLIC
END:VEVENT
END:VCALENDAR
