BEGIN:VCALENDAR
PRODID:-//kirchenweb.ch gmbh//veranstaltungsausgabe v2.0//DE
VERSION:2.0
METHOD:PUBLISH
BEGIN:VEVENT
DTSTART:20260316T090000Z
DTEND:20260316T100000Z
LOCATION:St. Agatha Pfarreizentrum\, Bahnhofplaz 3\, 8953 Dietikon
TRANSP:OPAQUE
SEQUENCE:0
UID:55185-veranstaltung@kath-dietikon.ch
DTSTAMP:20250708T070555Z
DESCRIPTION:Am zweiten Montag im Monat: 10.00 - 11.30 Uhr:\n\nWas?
  Regelmässige Meditationen in Stille und Achtsamkeit\nWie? 
  Impuls/Gespräch. Übung der Wahrnehmung. Stille Meditation\nWer?  Alle
  Frauen und Männer\, die sich nach mehr Tiefe und Lebendigkeit sehnen –
  die hoffen und vertrauen\, dass sich ihnen eine Quelle der Kraft auftut\,
  wenn sie sich darin üben\, nach innen zu hören und dem Leben achtsam zu
  begegnen.\nWurzel? Christliche Tradition der Meditation und Stille
  (Teresa v. Avila\, Ignatius v. Loyola\, Franz Jalics)\nWo?	        Kath.
  Pfarreizentrum St. Agatha\, Bahnhofplatz 3\, 8953 Dietikon\nLeitung
  	Monika Hemri\, Exerzitienbegleiterin und Eveline Römer
 \nKontakt	Unverbindlich vorbeikommen und schauen!\n   		Oder: Monika
  Hemri\, 079 515 21 60.\n\nUnentgeltlich. Freiwillige Spende an Amnesty
  International\n\nDer Weg nach innen fängt mit dem Lassen an\, mit der
  Entlastung.\nDas Neue wird von selbst.\n\nKontakt:
  caroline.bolfing@kath-dietikon.ch\n\nWeitere Infos:
  https://www.kath-dietikon.ch/veranstaltung/55185
SUMMARY:Einfach da sein - Meditationsweg
PRIORITY:5
X-MICROSOFT-CDO-IMPORTANCE:1
CLASS:PUBLIC
END:VEVENT
END:VCALENDAR
