BEGIN:VCALENDAR
PRODID:-//kirchenweb.ch gmbh//veranstaltungsausgabe v2.0//DE
VERSION:2.0
METHOD:PUBLISH
BEGIN:VEVENT
DTSTART:20260422T162000Z
DTEND:20260422T172000Z
LOCATION:St. Agatha Kirche\, Bahnhofplatz\, 8953 Dietikon
TRANSP:OPAQUE
SEQUENCE:0
UID:55043-veranstaltung@kath-dietikon.ch
DTSTAMP:20251224T094049Z
DESCRIPTION:Kontakt: Don Pietro Baciu\n\nWeitere Infos:
  https://www.kath-dietikon.ch/veranstaltung/55043
SUMMARY:Recita Santo Rosario
PRIORITY:5
X-MICROSOFT-CDO-IMPORTANCE:1
CLASS:PUBLIC
END:VEVENT
END:VCALENDAR
