BEGIN:VCALENDAR
PRODID:-//kirchenweb.ch gmbh//veranstaltungsausgabe v2.0//DE
VERSION:2.0
METHOD:PUBLISH
BEGIN:VEVENT
DTSTART:20260418T090000Z
DTEND:20260418T100000Z
LOCATION:St. Agatha Werktagskapelle\, Bahnhofplatz\, 8953 Dietikon
TRANSP:OPAQUE
SEQUENCE:0
UID:54770-veranstaltung@kath-dietikon.ch
DTSTAMP:20250519T181630Z
DESCRIPTION:Kontakt: Rita Mock\n\nWeitere Infos:
  https://www.kath-dietikon.ch/veranstaltung/54770
SUMMARY:Nuggi-Fiire
PRIORITY:5
X-MICROSOFT-CDO-IMPORTANCE:1
CLASS:PUBLIC
END:VEVENT
END:VCALENDAR
