BEGIN:VCALENDAR
PRODID:-//kirchenweb.ch gmbh//veranstaltungsausgabe v2.0//DE
VERSION:2.0
METHOD:PUBLISH
BEGIN:VEVENT
DTSTART:20260531T090000Z
DTEND:20260531T103000Z
LOCATION:St. Agatha Pfarreizentrum\, Bahnhofplatz 3\, 8953 Dietikon
TRANSP:OPAQUE
SEQUENCE:0
UID:54247-veranstaltung@kath-dietikon.ch
DTSTAMP:20260320T083424Z
DESCRIPTION:Kontakt: Theresa Strobel\n\nWeitere Infos:
  https://www.kath-dietikon.ch/veranstaltung/54247
SUMMARY:Apéro Alphaweekend
PRIORITY:5
X-MICROSOFT-CDO-IMPORTANCE:1
CLASS:PUBLIC
END:VEVENT
END:VCALENDAR
