BEGIN:VCALENDAR
PRODID:-//kirchenweb.ch gmbh//veranstaltungsausgabe v2.0//DE
VERSION:2.0
METHOD:PUBLISH
BEGIN:VEVENT
DTSTART:20260301T090000Z
DTEND:20260301T150000Z
LOCATION:St. Agatha Pfarreizentrum\, Bahnhofplatz 3\, 8953 Dietikon
TRANSP:OPAQUE
SEQUENCE:0
UID:53640-veranstaltung@kath-dietikon.ch
DTSTAMP:20251104T161058Z
DESCRIPTION:Kontakt: Rita Mock\n\nWeitere Infos:
  https://www.kath-dietikon.ch/veranstaltung/53640
SUMMARY:Firmweekend
PRIORITY:5
X-MICROSOFT-CDO-IMPORTANCE:1
CLASS:PUBLIC
END:VEVENT
END:VCALENDAR
