BEGIN:VCALENDAR
PRODID:-//kirchenweb.ch gmbh//veranstaltungsausgabe v2.0//DE
VERSION:2.0
METHOD:PUBLISH
BEGIN:VEVENT
DTSTART:20250724T070000Z
DTEND:20250724T080000Z
LOCATION:St. Josef Kirche\, Urdorferstrasse 44\, 8953 Dietikon
TRANSP:OPAQUE
SEQUENCE:0
UID:50961-veranstaltung@kath-dietikon.ch
DTSTAMP:20250605T094310Z
DESCRIPTION:Kontakt: caroline.bolfing@kath-dietikon.ch\n\nWeitere Infos:
  https://www.kath-dietikon.ch/veranstaltung/50961
SUMMARY:Wortgottesfeier mit Monica Cusinato
PRIORITY:5
X-MICROSOFT-CDO-IMPORTANCE:1
CLASS:PUBLIC
END:VEVENT
END:VCALENDAR
