BEGIN:VCALENDAR
PRODID:-//kirchenweb.ch gmbh//veranstaltungsausgabe v2.0//DE
VERSION:2.0
METHOD:PUBLISH
BEGIN:VEVENT
DTSTART:20240113T090000Z
DTEND:20240113T140000Z
LOCATION:St. Agatha Pfarreizentrum\, Bahnhofplatz 3\, 8953 Dietikon
TRANSP:OPAQUE
SEQUENCE:0
UID:49651-veranstaltung@kath-dietikon.ch
DTSTAMP:20240108T144101Z
DESCRIPTION:Kontakt: michael.saal@kath-dietikon.ch\n\nWeitere Infos:
  https://www.kath-dietikon.ch/veranstaltung/49651
SUMMARY:Meet your Church - Taufkatechese (Eltern)
PRIORITY:5
X-MICROSOFT-CDO-IMPORTANCE:1
CLASS:PUBLIC
END:VEVENT
END:VCALENDAR
