BEGIN:VCALENDAR
PRODID:-//kirchenweb.ch gmbh//veranstaltungsausgabe v2.0//DE
VERSION:2.0
METHOD:PUBLISH
BEGIN:VEVENT
DTSTART:20250119T170000Z
DTEND:20250119T174500Z
LOCATION:St. Agatha Kirche\, Bahnhofplatz\, 8953 Dietikon
TRANSP:OPAQUE
SEQUENCE:0
UID:49499-veranstaltung@kath-dietikon.ch
DTSTAMP:20231215T155529Z
DESCRIPTION:Gelegenheit zur Beichte in der Kirche St. Agatha.\n\nWer ein
  Beichtgespräch oder Seelsorgegespräch ausserhalb dieser Zeit wünscht
  kann sich für einen Termin im Pfarramt 044 743 40 20 oder
  pfarramt@kath-dietikon.ch melden\n\nKontakt:
  caroline.bolfing@kath-dietikon.ch\n\nWeitere Infos:
  https://www.kath-dietikon.ch/veranstaltung/49499
SUMMARY:Beichtgelegenheit
PRIORITY:5
X-MICROSOFT-CDO-IMPORTANCE:1
CLASS:PUBLIC
END:VEVENT
END:VCALENDAR
