BEGIN:VCALENDAR
PRODID:-//kirchenweb.ch gmbh//veranstaltungsausgabe v2.0//DE
VERSION:2.0
METHOD:PUBLISH
BEGIN:VEVENT
DTSTART:20240112T090000Z
DTEND:20240112T100000Z
LOCATION:AGZ Ruggacker\, Bremgartnerstrasse 39\, 8953 Dietikon
TRANSP:OPAQUE
SEQUENCE:0
UID:48102-veranstaltung@kath-dietikon.ch
DTSTAMP:20230718T094615Z
DESCRIPTION:Kontakt: Luzia Räber\n\nWeitere Infos:
  https://www.kath-dietikon.ch/veranstaltung/48102
SUMMARY:Wortgottesfeier im Ruggacker
PRIORITY:5
X-MICROSOFT-CDO-IMPORTANCE:1
CLASS:PUBLIC
END:VEVENT
END:VCALENDAR
