BEGIN:VCALENDAR
PRODID:-//kirchenweb.ch gmbh//veranstaltungsausgabe v2.0//DE
VERSION:2.0
METHOD:PUBLISH
BEGIN:VEVENT
DTSTART;VALUE=DATE:20240113
DTEND;VALUE=DATE:20240114
LOCATION:St. Agatha Pfarreizentrum\, Bahnhofplatz 3\, 8953 Dietikon
TRANSP:OPAQUE
SEQUENCE:0
UID:47273-veranstaltung@kath-dietikon.ch
DTSTAMP:20230425T141845Z
DESCRIPTION:Kontakt: Rita Mock\n\nWeitere Infos:
  https://www.kath-dietikon.ch/veranstaltung/47273
SUMMARY:Jugendprojekt Meet your Church
PRIORITY:5
X-MICROSOFT-CDO-IMPORTANCE:1
CLASS:PUBLIC
END:VEVENT
END:VCALENDAR
