BEGIN:VCALENDAR
PRODID:-//kirchenweb.ch gmbh//veranstaltungsausgabe v2.0//DE
VERSION:2.0
METHOD:PUBLISH
BEGIN:VEVENT
DTSTART:20240112T180000Z
DTEND:20240112T210000Z
LOCATION:St. Josef Pfarreizentrum\, Urdorferstrasse 44\, 8953 Dietikon
TRANSP:OPAQUE
SEQUENCE:0
UID:44007-veranstaltung@kath-dietikon.ch
DTSTAMP:20230425T125433Z
DESCRIPTION:Kontakt: Rita Mock\n\nWeitere Infos:
  https://www.kath-dietikon.ch/veranstaltung/44007
SUMMARY:Spielabend für Jugendliche
PRIORITY:5
X-MICROSOFT-CDO-IMPORTANCE:1
CLASS:PUBLIC
END:VEVENT
END:VCALENDAR
