BEGIN:VCALENDAR
PRODID:-//kirchenweb.ch gmbh//veranstaltungsausgabe v2.0//DE
VERSION:2.0
METHOD:PUBLISH
BEGIN:VEVENT
DTSTART:20240113T100000Z
DTEND:20240113T104500Z
LOCATION:St. Agatha Kirche\, Bahnhofplatz\, 8953 Dietikon
TRANSP:OPAQUE
SEQUENCE:0
UID:43602-veranstaltung@kath-dietikon.ch
DTSTAMP:20220518T064920Z
DESCRIPTION:Kontakt: Rita Mock\n\nWeitere Infos:
  https://www.kath-dietikon.ch/veranstaltung/43602
SUMMARY:Nuggi-Fiire
PRIORITY:5
X-MICROSOFT-CDO-IMPORTANCE:1
CLASS:PUBLIC
END:VEVENT
END:VCALENDAR
